Package: crisprBowtie Version: 1.14.0 Command: rm -rf crisprBowtie.buildbin-libdir && mkdir crisprBowtie.buildbin-libdir && /Users/biocbuild/BBS/utils/build-universal.sh crisprBowtie_1.14.0.tar.gz /Library/Frameworks/R.framework/Resources/bin/R crisprBowtie.buildbin-libdir StartedAt: 2025-11-18 15:22:09 -0500 (Tue, 18 Nov 2025) EndedAt: 2025-11-18 15:22:27 -0500 (Tue, 18 Nov 2025) EllapsedTime: 17.2 seconds RetCode: 0 Status: OK PackageFile: crisprBowtie_1.14.0.tgz PackageFileSize: 335.5 KiB