Package: cqn Version: 1.55.0 Command: /home/biocbuild/R/R/bin/R CMD INSTALL cqn StartedAt: 2025-10-23 20:20:54 -0000 (Thu, 23 Oct 2025) EndedAt: 2025-10-23 20:21:15 -0000 (Thu, 23 Oct 2025) EllapsedTime: 21.5 seconds RetCode: 0 Status: OK