Package: cqn Version: 1.55.0 Command: /home/biocbuild/R/R/bin/R CMD build --keep-empty-dirs --no-resave-data cqn StartedAt: 2025-10-20 22:59:35 -0000 (Mon, 20 Oct 2025) EndedAt: 2025-10-20 22:59:55 -0000 (Mon, 20 Oct 2025) EllapsedTime: 20.0 seconds RetCode: 0 Status: OK PackageFile: cqn_1.55.0.tar.gz PackageFileSize: 794.9 KiB