Package: cqn Version: 1.55.0 Command: F:\biocbuild\bbs-3.22-bioc\R\bin\R.exe CMD check --no-multiarch --install=check:cqn.install-out.txt --library=F:\biocbuild\bbs-3.22-bioc\R\library --no-vignettes --timings cqn_1.55.0.tar.gz StartedAt: 2025-08-15 02:01:56 -0400 (Fri, 15 Aug 2025) EndedAt: 2025-08-15 02:03:01 -0400 (Fri, 15 Aug 2025) EllapsedTime: 65.1 seconds RetCode: 0 Status: OK CheckDir: cqn.Rcheck Warnings: 0