Package: cqn Version: 1.55.0 Command: /home/biocbuild/bbs-3.22-bioc/R/bin/R CMD INSTALL cqn StartedAt: 2025-10-08 15:16:22 -0400 (Wed, 08 Oct 2025) EndedAt: 2025-10-08 15:16:28 -0400 (Wed, 08 Oct 2025) EllapsedTime: 6.5 seconds RetCode: 0 Status: OK