Package: cqn Version: 1.55.0 Command: /home/biocbuild/bbs-3.22-bioc/R/bin/R CMD build --keep-empty-dirs --no-resave-data --md5 cqn StartedAt: 2025-10-08 17:24:52 -0400 (Wed, 08 Oct 2025) EndedAt: 2025-10-08 17:25:12 -0400 (Wed, 08 Oct 2025) EllapsedTime: 20.0 seconds RetCode: 0 Status: OK PackageFile: cqn_1.55.0.tar.gz PackageFileSize: 980.2 KiB