Package: cpvSNP Version: 1.42.0 Command: /Library/Frameworks/R.framework/Resources/bin/R CMD INSTALL cpvSNP StartedAt: 2025-11-17 18:23:31 -0500 (Mon, 17 Nov 2025) EndedAt: 2025-11-17 18:24:59 -0500 (Mon, 17 Nov 2025) EllapsedTime: 87.2 seconds RetCode: 0 Status: OK