Package: cpvSNP Version: 1.42.0 Command: /Library/Frameworks/R.framework/Resources/bin/R CMD build --keep-empty-dirs --no-resave-data cpvSNP StartedAt: 2025-11-17 21:28:46 -0500 (Mon, 17 Nov 2025) EndedAt: 2025-11-17 21:31:08 -0500 (Mon, 17 Nov 2025) EllapsedTime: 142.4 seconds RetCode: 0 Status: OK PackageFile: cpvSNP_1.42.0.tar.gz PackageFileSize: 2.004 MiB