Package: countsimQC Version: 1.27.1 Command: /home/biocbuild/R/R/bin/R CMD INSTALL countsimQC StartedAt: 2025-10-06 20:41:28 -0000 (Mon, 06 Oct 2025) EndedAt: 2025-10-06 20:42:10 -0000 (Mon, 06 Oct 2025) EllapsedTime: 42.3 seconds RetCode: 0 Status: OK