Package: cosmosR Version: 1.17.0 Command: /Library/Frameworks/R.framework/Resources/bin/R CMD check --install=check:cosmosR.install-out.txt --library=/Library/Frameworks/R.framework/Resources/library --no-vignettes --timings cosmosR_1.17.0.tar.gz StartedAt: 2025-10-03 18:53:21 -0400 (Fri, 03 Oct 2025) EndedAt: 2025-10-03 18:53:55 -0400 (Fri, 03 Oct 2025) EllapsedTime: 34.4 seconds RetCode: 0 Status: OK CheckDir: cosmosR.Rcheck Warnings: 0