Package: cosmiq Version: 1.43.0 Command: /home/biocbuild/R/R/bin/R CMD INSTALL cosmiq StartedAt: 2025-10-20 20:58:07 -0000 (Mon, 20 Oct 2025) EndedAt: 2025-10-20 20:59:01 -0000 (Mon, 20 Oct 2025) EllapsedTime: 54.2 seconds RetCode: 0 Status: OK