Package: cosmiq Version: 1.43.0 Command: /home/biocbuild/R/R/bin/R CMD check --install=check:cosmiq.install-out.txt --library=/home/biocbuild/R/R/site-library --no-vignettes --timings cosmiq_1.43.0.tar.gz StartedAt: 2025-10-21 06:52:10 -0000 (Tue, 21 Oct 2025) EndedAt: 2025-10-21 06:58:53 -0000 (Tue, 21 Oct 2025) EllapsedTime: 403.3 seconds RetCode: 0 Status: OK CheckDir: cosmiq.Rcheck Warnings: 0