Package: cosmiq Version: 1.43.0 Command: /home/biocbuild/R/R/bin/R CMD build --keep-empty-dirs --no-resave-data cosmiq StartedAt: 2025-10-20 22:58:10 -0000 (Mon, 20 Oct 2025) EndedAt: 2025-10-20 23:01:07 -0000 (Mon, 20 Oct 2025) EllapsedTime: 177.1 seconds RetCode: 0 Status: OK PackageFile: cosmiq_1.43.0.tar.gz PackageFileSize: 534.8 KiB