Package: cosmiq Version: 1.43.0 Command: /Library/Frameworks/R.framework/Resources/bin/R CMD build --keep-empty-dirs --no-resave-data cosmiq StartedAt: 2025-10-21 16:39:47 -0400 (Tue, 21 Oct 2025) EndedAt: 2025-10-21 16:43:06 -0400 (Tue, 21 Oct 2025) EllapsedTime: 199.3 seconds RetCode: 0 Status: OK PackageFile: cosmiq_1.43.0.tar.gz PackageFileSize: 540.6 KiB