Package: cosmiq Version: 1.43.0 Command: rm -rf cosmiq.buildbin-libdir && mkdir cosmiq.buildbin-libdir && /Users/biocbuild/BBS/utils/build-universal.sh cosmiq_1.43.0.tar.gz /Library/Frameworks/R.framework/Resources/bin/R cosmiq.buildbin-libdir StartedAt: 2025-10-22 02:19:30 -0400 (Wed, 22 Oct 2025) EndedAt: 2025-10-22 02:20:30 -0400 (Wed, 22 Oct 2025) EllapsedTime: 60.2 seconds RetCode: 0 Status: OK PackageFile: cosmiq_1.43.0.tgz PackageFileSize: 289.8 KiB