Package: cosmiq Version: 1.43.0 Command: /Library/Frameworks/R.framework/Resources/bin/R CMD INSTALL cosmiq StartedAt: 2025-10-21 15:24:55 -0400 (Tue, 21 Oct 2025) EndedAt: 2025-10-21 15:25:12 -0400 (Tue, 21 Oct 2025) EllapsedTime: 17.2 seconds RetCode: 0 Status: OK