Package: cosmiq Version: 1.43.0 Command: /Library/Frameworks/R.framework/Resources/bin/R CMD check --install=check:cosmiq.install-out.txt --library=/Library/Frameworks/R.framework/Resources/library --no-vignettes --timings cosmiq_1.43.0.tar.gz StartedAt: 2025-10-21 19:09:59 -0400 (Tue, 21 Oct 2025) EndedAt: 2025-10-21 19:12:12 -0400 (Tue, 21 Oct 2025) EllapsedTime: 132.6 seconds RetCode: 0 Status: OK CheckDir: cosmiq.Rcheck Warnings: 0