Package: corral Version: 1.19.0 Command: /home/biocbuild/R/R/bin/R CMD INSTALL corral StartedAt: 2025-10-20 20:49:10 -0000 (Mon, 20 Oct 2025) EndedAt: 2025-10-20 20:49:45 -0000 (Mon, 20 Oct 2025) EllapsedTime: 35.1 seconds RetCode: 0 Status: OK