Package: corral Version: 1.19.0 Command: /home/biocbuild/R/R/bin/R CMD check --install=check:corral.install-out.txt --library=/home/biocbuild/R/R/site-library --no-vignettes --timings corral_1.19.0.tar.gz StartedAt: 2025-10-17 07:37:40 -0000 (Fri, 17 Oct 2025) EndedAt: 2025-10-17 07:43:26 -0000 (Fri, 17 Oct 2025) EllapsedTime: 346.3 seconds RetCode: 0 Status: OK CheckDir: corral.Rcheck Warnings: 0