Package: corral Version: 1.19.0 Command: /home/biocbuild/R/R/bin/R CMD build --keep-empty-dirs --no-resave-data corral StartedAt: 2025-10-20 22:57:36 -0000 (Mon, 20 Oct 2025) EndedAt: 2025-10-20 23:07:07 -0000 (Mon, 20 Oct 2025) EllapsedTime: 571.3 seconds RetCode: 1 Status: ERROR PackageFile: None PackageFileSize: NA