Package: corral Version: 1.19.0 Command: F:\biocbuild\bbs-3.22-bioc\R\bin\R.exe CMD INSTALL corral StartedAt: 2025-08-14 16:18:47 -0400 (Thu, 14 Aug 2025) EndedAt: 2025-08-14 16:19:25 -0400 (Thu, 14 Aug 2025) EllapsedTime: 37.9 seconds RetCode: 0 Status: OK