Package: corral Version: 1.19.0 Command: chmod a+r corral -R && F:\biocbuild\bbs-3.22-bioc\R\bin\R.exe CMD build --keep-empty-dirs --no-resave-data corral StartedAt: 2025-08-14 19:19:17 -0400 (Thu, 14 Aug 2025) EndedAt: 2025-08-14 19:38:02 -0400 (Thu, 14 Aug 2025) EllapsedTime: 1124.9 seconds RetCode: 0 Status: OK PackageFile: corral_1.19.0.tar.gz PackageFileSize: 1.412 MiB