Package: corral Version: 1.19.0 Command: rm -rf corral.buildbin-libdir && mkdir corral.buildbin-libdir && F:\biocbuild\bbs-3.22-bioc\R\bin\R.exe CMD INSTALL --build --library=corral.buildbin-libdir corral_1.19.0.tar.gz StartedAt: 2025-08-15 10:01:47 -0400 (Fri, 15 Aug 2025) EndedAt: 2025-08-15 10:02:31 -0400 (Fri, 15 Aug 2025) EllapsedTime: 43.3 seconds RetCode: 0 Status: OK PackageFile: corral_1.19.0.zip PackageFileSize: 1.16 MiB