Package: copa Version: 1.77.0 Command: /home/biocbuild/R/R/bin/R CMD INSTALL copa StartedAt: 2025-10-16 21:25:11 -0000 (Thu, 16 Oct 2025) EndedAt: 2025-10-16 21:25:18 -0000 (Thu, 16 Oct 2025) EllapsedTime: 6.1 seconds RetCode: 0 Status: OK