Package: copa Version: 1.77.0 Command: /home/biocbuild/R/R/bin/R CMD build --keep-empty-dirs --no-resave-data copa StartedAt: 2025-10-17 00:13:38 -0000 (Fri, 17 Oct 2025) EndedAt: 2025-10-17 00:13:47 -0000 (Fri, 17 Oct 2025) EllapsedTime: 9.0 seconds RetCode: 0 Status: OK PackageFile: copa_1.77.0.tar.gz PackageFileSize: 115.8 KiB