Package: copa Version: 1.77.0 Command: /Library/Frameworks/R.framework/Resources/bin/R CMD INSTALL copa StartedAt: 2025-10-22 15:15:54 -0400 (Wed, 22 Oct 2025) EndedAt: 2025-10-22 15:16:11 -0400 (Wed, 22 Oct 2025) EllapsedTime: 17.9 seconds RetCode: 0 Status: OK