Package: copa Version: 1.77.0 Command: /Library/Frameworks/R.framework/Resources/bin/R CMD check --install=check:copa.install-out.txt --library=/Library/Frameworks/R.framework/Resources/library --no-vignettes --timings copa_1.77.0.tar.gz StartedAt: 2025-10-22 20:16:11 -0400 (Wed, 22 Oct 2025) EndedAt: 2025-10-22 20:16:42 -0400 (Wed, 22 Oct 2025) EllapsedTime: 31.1 seconds RetCode: 0 Status: OK CheckDir: copa.Rcheck Warnings: 0