Package: copa Version: 1.77.0 Command: /Library/Frameworks/R.framework/Resources/bin/R CMD build --keep-empty-dirs --no-resave-data copa StartedAt: 2025-10-22 16:31:17 -0400 (Wed, 22 Oct 2025) EndedAt: 2025-10-22 16:31:32 -0400 (Wed, 22 Oct 2025) EllapsedTime: 14.8 seconds RetCode: 0 Status: OK PackageFile: copa_1.77.0.tar.gz PackageFileSize: 120.6 KiB