Package: copa Version: 1.77.0 Command: rm -rf copa.buildbin-libdir && mkdir copa.buildbin-libdir && /Users/biocbuild/BBS/utils/build-universal.sh copa_1.77.0.tar.gz /Library/Frameworks/R.framework/Resources/bin/R copa.buildbin-libdir StartedAt: 2025-10-23 01:26:59 -0400 (Thu, 23 Oct 2025) EndedAt: 2025-10-23 01:27:07 -0400 (Thu, 23 Oct 2025) EllapsedTime: 8.1 seconds RetCode: 0 Status: OK PackageFile: copa_1.77.0.tgz PackageFileSize: 159.2 KiB