Package: copa Version: 1.77.0 Command: /Library/Frameworks/R.framework/Resources/bin/R CMD INSTALL copa StartedAt: 2025-10-22 15:08:00 -0400 (Wed, 22 Oct 2025) EndedAt: 2025-10-22 15:08:01 -0400 (Wed, 22 Oct 2025) EllapsedTime: 1.5 seconds RetCode: 0 Status: OK