Package: convert Version: 1.85.0 Command: /home/biocbuild/bbs-3.22-bioc/R/bin/R CMD INSTALL convert StartedAt: 2025-10-12 15:11:33 -0400 (Sun, 12 Oct 2025) EndedAt: 2025-10-12 15:11:37 -0400 (Sun, 12 Oct 2025) EllapsedTime: 4.2 seconds RetCode: 0 Status: OK