Package: conumee Version: 1.43.1 Command: /home/biocbuild/R/R/bin/R CMD INSTALL conumee StartedAt: 2025-10-23 21:10:05 -0000 (Thu, 23 Oct 2025) EndedAt: 2025-10-23 21:14:25 -0000 (Thu, 23 Oct 2025) EllapsedTime: 259.8 seconds RetCode: 0 Status: OK