Package: conumee Version: 1.43.1 Command: /home/biocbuild/R/R/bin/R CMD build --keep-empty-dirs --no-resave-data conumee StartedAt: 2025-10-20 22:55:41 -0000 (Mon, 20 Oct 2025) EndedAt: 2025-10-20 23:05:04 -0000 (Mon, 20 Oct 2025) EllapsedTime: 563.2 seconds RetCode: 0 Status: OK PackageFile: conumee_1.43.1.tar.gz PackageFileSize: 732.5 KiB