Package: conumee Version: 1.44.0 Command: /Library/Frameworks/R.framework/Resources/bin/R CMD INSTALL conumee StartedAt: 2025-10-31 15:48:09 -0400 (Fri, 31 Oct 2025) EndedAt: 2025-10-31 15:52:40 -0400 (Fri, 31 Oct 2025) EllapsedTime: 270.7 seconds RetCode: 0 Status: OK