Package: conumee Version: 1.44.0 Command: /Library/Frameworks/R.framework/Resources/bin/R CMD check --install=check:conumee.install-out.txt --library=/Library/Frameworks/R.framework/Resources/library --no-vignettes --timings conumee_1.44.0.tar.gz StartedAt: 2025-10-31 20:24:49 -0400 (Fri, 31 Oct 2025) EndedAt: 2025-10-31 20:47:29 -0400 (Fri, 31 Oct 2025) EllapsedTime: 1360.0 seconds RetCode: 0 Status: OK CheckDir: conumee.Rcheck Warnings: 0