Package: consensusSeekeR Version: 1.37.3 Command: /home/biocbuild/R/R/bin/R CMD INSTALL consensusSeekeR StartedAt: 2025-10-23 20:50:19 -0000 (Thu, 23 Oct 2025) EndedAt: 2025-10-23 20:50:57 -0000 (Thu, 23 Oct 2025) EllapsedTime: 37.4 seconds RetCode: 0 Status: OK