Package: consensusSeekeR Version: 1.38.0 Command: /home/biocbuild/R/R/bin/R CMD check --install=check:consensusSeekeR.install-out.txt --library=/home/biocbuild/R/R/site-library --no-vignettes --timings consensusSeekeR_1.38.0.tar.gz StartedAt: 2025-11-11 08:27:14 -0000 (Tue, 11 Nov 2025) EndedAt: 2025-11-11 08:32:06 -0000 (Tue, 11 Nov 2025) EllapsedTime: 292.2 seconds RetCode: 0 Status: OK CheckDir: consensusSeekeR.Rcheck Warnings: 0