Package: consensusOV Version: 1.31.0 Command: /Library/Frameworks/R.framework/Resources/bin/R CMD INSTALL consensusOV StartedAt: 2025-10-17 15:30:23 -0400 (Fri, 17 Oct 2025) EndedAt: 2025-10-17 15:30:46 -0400 (Fri, 17 Oct 2025) EllapsedTime: 22.9 seconds RetCode: 0 Status: OK