Package: consensusOV Version: 1.31.0 Command: /Library/Frameworks/R.framework/Resources/bin/R CMD check --install=check:consensusOV.install-out.txt --library=/Library/Frameworks/R.framework/Resources/library --no-vignettes --timings consensusOV_1.31.0.tar.gz StartedAt: 2025-10-17 19:09:08 -0400 (Fri, 17 Oct 2025) EndedAt: 2025-10-17 19:11:29 -0400 (Fri, 17 Oct 2025) EllapsedTime: 140.6 seconds RetCode: 0 Status: OK CheckDir: consensusOV.Rcheck Warnings: 0