Package: consensusOV Version: 1.31.0 Command: /Library/Frameworks/R.framework/Resources/bin/R CMD build --keep-empty-dirs --no-resave-data consensusOV StartedAt: 2025-10-17 16:00:39 -0400 (Fri, 17 Oct 2025) EndedAt: 2025-10-17 16:01:43 -0400 (Fri, 17 Oct 2025) EllapsedTime: 64.7 seconds RetCode: 0 Status: OK PackageFile: consensusOV_1.31.0.tar.gz PackageFileSize: 3.212 MiB