Package: consensus Version: 1.27.0 Command: /Library/Frameworks/R.framework/Resources/bin/R CMD build --keep-empty-dirs --no-resave-data consensus StartedAt: 2025-10-23 16:00:50 -0400 (Thu, 23 Oct 2025) EndedAt: 2025-10-23 16:00:54 -0400 (Thu, 23 Oct 2025) EllapsedTime: 4.0 seconds RetCode: 0 Status: OK PackageFile: consensus_1.27.0.tar.gz PackageFileSize: 970.7 KiB