Package: concordexR Version: 1.10.0 Command: /home/biocbuild/R/R/bin/R CMD build --keep-empty-dirs --no-resave-data concordexR StartedAt: 2025-11-18 00:41:37 -0000 (Tue, 18 Nov 2025) EndedAt: 2025-11-18 00:43:36 -0000 (Tue, 18 Nov 2025) EllapsedTime: 119.1 seconds RetCode: 0 Status: OK PackageFile: concordexR_1.10.0.tar.gz PackageFileSize: 1.094 MiB