Package: compEpiTools Version: 1.43.1 Command: /home/biocbuild/R/R/bin/R CMD INSTALL compEpiTools StartedAt: 2025-10-16 22:13:14 -0000 (Thu, 16 Oct 2025) EndedAt: 2025-10-16 22:14:31 -0000 (Thu, 16 Oct 2025) EllapsedTime: 77.0 seconds RetCode: 0 Status: OK