Package: compEpiTools Version: 1.43.1 Command: /home/biocbuild/R/R/bin/R CMD build --keep-empty-dirs --no-resave-data compEpiTools StartedAt: 2025-10-17 00:11:18 -0000 (Fri, 17 Oct 2025) EndedAt: 2025-10-17 00:13:14 -0000 (Fri, 17 Oct 2025) EllapsedTime: 116.1 seconds RetCode: 0 Status: OK PackageFile: compEpiTools_1.43.1.tar.gz PackageFileSize: 2.16 MiB