Package: compEpiTools Version: 1.43.1 Command: F:\biocbuild\bbs-3.22-bioc\R\bin\R.exe CMD check --no-multiarch --install=check:compEpiTools.install-out.txt --library=F:\biocbuild\bbs-3.22-bioc\R\library --no-vignettes --timings compEpiTools_1.43.1.tar.gz StartedAt: 2025-08-15 01:52:51 -0400 (Fri, 15 Aug 2025) EndedAt: 2025-08-15 02:01:51 -0400 (Fri, 15 Aug 2025) EllapsedTime: 539.4 seconds RetCode: 0 Status: OK CheckDir: compEpiTools.Rcheck Warnings: 0