Package: compEpiTools Version: 1.43.1 Command: /Library/Frameworks/R.framework/Resources/bin/R CMD INSTALL compEpiTools StartedAt: 2025-10-20 15:26:08 -0400 (Mon, 20 Oct 2025) EndedAt: 2025-10-20 15:26:32 -0400 (Mon, 20 Oct 2025) EllapsedTime: 24.8 seconds RetCode: 0 Status: OK