Package: compEpiTools Version: 1.43.1 Command: /Library/Frameworks/R.framework/Resources/bin/R CMD build --keep-empty-dirs --no-resave-data compEpiTools StartedAt: 2025-10-19 15:59:41 -0400 (Sun, 19 Oct 2025) EndedAt: 2025-10-19 16:00:20 -0400 (Sun, 19 Oct 2025) EllapsedTime: 38.4 seconds RetCode: 0 Status: OK PackageFile: compEpiTools_1.43.1.tar.gz PackageFileSize: 2.166 MiB