Package: combi Version: 1.21.0 Command: chmod a+r combi -R && F:\biocbuild\bbs-3.22-bioc\R\bin\R.exe CMD build --keep-empty-dirs --no-resave-data combi StartedAt: 2025-08-14 19:15:15 -0400 (Thu, 14 Aug 2025) EndedAt: 2025-08-14 19:19:25 -0400 (Thu, 14 Aug 2025) EllapsedTime: 250.7 seconds RetCode: 0 Status: OK PackageFile: combi_1.21.0.tar.gz PackageFileSize: 1.175 MiB