Package: combi Version: 1.22.0 Command: /home/biocbuild/bbs-3.22-bioc/R/bin/R CMD INSTALL combi StartedAt: 2025-11-05 15:57:18 -0500 (Wed, 05 Nov 2025) EndedAt: 2025-11-05 15:57:51 -0500 (Wed, 05 Nov 2025) EllapsedTime: 33.4 seconds RetCode: 0 Status: OK