Package: combi Version: 1.22.0 Command: /home/biocbuild/bbs-3.22-bioc/R/bin/R CMD check --install=check:combi.install-out.txt --library=/home/biocbuild/bbs-3.22-bioc/R/site-library --timings combi_1.22.0.tar.gz StartedAt: 2025-11-05 22:26:07 -0500 (Wed, 05 Nov 2025) EndedAt: 2025-11-05 22:34:40 -0500 (Wed, 05 Nov 2025) EllapsedTime: 512.4 seconds RetCode: 0 Status: OK CheckDir: combi.Rcheck Warnings: 0